BEGIN:VCALENDAR
VERSION:2.0
PRODID:-//wp-events-plugin.com//7.2.3.1//EN
TZID:Europe/Berlin
X-WR-TIMEZONE:Europe/Berlin
BEGIN:VEVENT
UID:103@atterbiker.at
DTSTART;TZID=Europe/Berlin:20220519T180000
DTEND;TZID=Europe/Berlin:20220519T210000
DTSTAMP:20220513T083541Z
URL:https://www.atterbiker.at/events/atterbiker-maedels-stammtisch/
SUMMARY:Atterbiker Mädels Stammtisch
DESCRIPTION:Alle Atterbiker Mädels sind herzlich zum Mädels Stammtisch am
  19.05. eingeladen. Los gehts um 18:00\, wir starten mit einer kleinen Ren
 nrad-Runde in Richtung Gläsernes Tal (ca. 1 Stunde) und kehren danach gem
 ütlich beim Heinz (Hofwirt) in Kammer ein. Wer nicht bei der Ausfahrt dab
 ei sein kann\, kann gerne auch erst später beim Heinz dazustoßen.\n\nIch
  freu mich auf euch\,\nSteffi
CATEGORIES:RR Ausfahrten
LOCATION:Bike & Boot\, Hauptstraße 8\, Kammer\, 4861\, Österreich
X-APPLE-STRUCTURED-LOCATION;VALUE=URI;X-ADDRESS=Hauptstraße 8\, Kammer\, 4
 861\, Österreich;X-APPLE-RADIUS=100;X-TITLE=Bike & Boot:geo:0,0
END:VEVENT
BEGIN:VTIMEZONE
TZID:Europe/Berlin
X-LIC-LOCATION:Europe/Berlin
BEGIN:DAYLIGHT
DTSTART:20220327T030000
TZOFFSETFROM:+0100
TZOFFSETTO:+0200
TZNAME:CEST
END:DAYLIGHT
END:VTIMEZONE
END:VCALENDAR